BEGIN:VCALENDAR
VERSION:2.0
PRODID:https://www.hft-stuttgart.de/
METHOD:PUBLISH
BEGIN:VEVENT
UID:1173-250@www.hft-stuttgart.com
CLASS: PUBLIC
SUMMARY:Exhibition ‘Bioregional Building Materials’ in the IBA&#039;27 space
DESCRIPTION:As a temporary part of the IBA'27 exhibition, seminar results f
 rom students at the University of Applied Sciences on the topic of ‘bioregi
 onal building materials’ will be presented in the ‘WOMIT BAUEN’ category. H
 ow can local raw materials and waste be turned into innovative building mat
 erials?\n\nIn the summer semester of 2025, students researched and analysed
  which local raw materials from geological and biological deposits as well 
 as industrial and agricultural products are available in the Upper Palatina
 te region. The focus was on the question of which waste materials are gener
 ated within local value chains and what potential lies in their recycling. 
  In cooperation with local stakeholders, raw materials were collected and t
 ested in small field trips and their building material potential was tested
  in practical experiments. Tests with different compositions open up vision
 s of how the use of bioregional materials can contribute to the building re
 volution.  The strategy could also be transferred to other regions - such a
 s Baden-Württemberg, or specifically the Stuttgart region.  Cooperation pro
 ject between the HFT Stuttgart and the Denk- & Macherei - a cross-semester 
 and interdisciplinary compulsory elective subject of the Interior Architect
 ure degree programme at the Faculty of Architecture and Design.There will b
 e a guided tour of the exhibition on 25 September 2025 at 5:30 pm.Afterward
 s there will be music, drinks and networking. Come along, bring colleagues 
 & friends - and discover how bioregional building materials can shape the f
 uture of construction. We are looking forward to seeing you and to a great 
 evening!   Participants Claudia Bader, Maleen Blank, Johannes de Charon de 
 Saint Germain, Lisa Hegele, Luise Hegenbart, Celina Leichtfuss, Markus Lent
 ner, Lisa Limbach, Marlene Link, Saskia Ruder, Melina Stocker, Tim Suckrau,
  Katalina Vrkic, Tabea Warth\n\nSeminar management Melissa Acker (HFT Stutt
 gart), Stefanie Huthöfer and Peter Gmeiner (Denk- & Macherei)Project page h
 ttps://www.hft-stuttgart.com/studies/fields-of-study/architecture-and-desig
 n/projects/elective-course-bioregional-building-material-development \n\nEx
 hibiton venue Room of the IBA'27 Calwer Straße / corner of Kienestraße  701
 73 StuttgartDuration The exhibition is expected to run until November.\n\nE
 vent IBA'27-Afterwork #13: Bioregional Building Materials  \n\nMore informa
 tion at https://www.iba27.de/iba27-afterwork-13/ 
X-ALT-DESC;FMTTYPE=text/html:<p>As a temporary part of the IBA'27 exhibition, seminar result
 s from students at the University of Applied Sciences on the topic of ‘bior
 egional building materials’ will be presented in the ‘WOMIT BAUEN’ category
 . How can local raw materials and waste be turned into innovative building 
 materials?</p>\n\n<p>In the summer semester of 2025, students researched an
 d analysed which local raw materials from geological and biological deposit
 s as well as industrial and agricultural products are available in the Uppe
 r Palatinate region. The focus was on the question of which waste materials
  are generated within local value chains and what potential lies in their r
 ecycling. &nbsp;In cooperation with local stakeholders, raw materials were 
 collected and tested in small field trips and their building material poten
 tial was tested in practical experiments. Tests with different compositions
  open up visions of how the use of bioregional materials can contribute to 
 the building revolution. &nbsp;The strategy could also be transferred to ot
 her regions - such as Baden-Württemberg, or specifically the Stuttgart regi
 on. &nbsp;Cooperation project between the HFT Stuttgart and the Denk- &amp;
  Macherei - a cross-semester and interdisciplinary compulsory elective subj
 ect of the Interior Architecture degree programme at the Faculty of Archite
 cture and Design.<br /><br /><strong>There will be a guided tour of the exh
 ibition on 25 September 2025 at 5:30 pm.</strong><br /><br />Afterwards the
 re will be music, drinks and networking. Come along, bring colleagues &amp;
  friends - and discover how bioregional building materials can shape the fu
 ture of construction. We are looking forward to seeing you and to a great e
 vening! &nbsp; <br /><br /><strong>Participants </strong><br />Claudia Bade
 r, Maleen Blank, Johannes de Charon de Saint Germain, Lisa Hegele, Luise He
 genbart, Celina Leichtfuss, Markus Lentner, Lisa Limbach, Marlene Link, Sas
 kia Ruder, Melina Stocker, Tim Suckrau, Katalina Vrkic, Tabea Warth</p>\n\n
 <p><strong>Seminar management </strong><br />Melissa Acker (HFT Stuttgart),
  Stefanie Huthöfer and Peter Gmeiner (Denk- &amp; Macherei)<br /><br /><str
 ong>Project page </strong><br /><a href="https://www.hft-stuttgart.com/stud
 ies/fields-of-study/architecture-and-design/projects/elective-course-bioreg
 ional-building-material-development">https://www.hft-stuttgart.com/studies/
 fields-of-study/architecture-and-design/projects/elective-course-bioregiona
 l-building-material-development</a>&nbsp;</p>\n\n<p><strong>Exhibiton venue
 </strong><br /> Room of the IBA'27 Calwer Straße / corner of Kienestraße  7
 0173 Stuttgart<br /><br /><strong>Duration </strong><br />The exhibition is
  expected to run until November.</p>\n\n<p><strong>Event</strong><br /> IBA
 '27-Afterwork #13: Bioregional Building Materials &nbsp;</p>\n\n<p><strong>
 More information at</strong> <br /><a class="external-link" href="https://w
 ww.iba27.de/iba27-afterwork-13/">https://www.iba27.de/iba27-afterwork-13/ <
 /a></p>
DTSTAMP:20251121T092408Z
DTSTART:20250925T153000Z
DTEND:20251103T170000Z
END:VEVENT
END:VCALENDAR
