BEGIN:VCALENDAR
VERSION:2.0
PRODID:https://www.hft-stuttgart.de/
METHOD:PUBLISH
BEGIN:VEVENT
UID:677-602@www.hft-stuttgart.com
CLASS: PUBLIC
SUMMARY:AGSE2022
DESCRIPTION:Applied Geoinformatics for Digital Transformation and Environme
 ntal Stewardship\n\nAGSE - Applied Geoinformatics for Society and Environme
 nt.\n\nThe annual international conference with workshops on geospatial dat
 a will take place this year from 02 to 04 November 2022 in Kerala / India.\
 n\nMore information on the AGSE2022 news page.
X-ALT-DESC;FMTTYPE=text/html:<p><strong>Applied Geoinformatics for Digital Transformation an
 d Environmental Stewardship</strong></p>\n\n<p>AGSE - Applied Geoinformatic
 s for Society and Environment.</p>\n\n<p>The annual international conferenc
 e with workshops on geospatial data will take place this year from 02 to 04
  November 2022 in Kerala / India.</p>\n\n<p>More information on the <a href
 ="t3://page?uid=3796">AGSE2022</a>&nbsp;news page.</p>
DTSTAMP:20220707T060622Z
DTSTART;VALUE=DATE:20221102
DTEND;VALUE=DATE:20221105
END:VEVENT
END:VCALENDAR
